BEGIN:VCALENDAR
VERSION:2.0
PRODID:-//AWO Schwedt//NONSGML kigkonsult.se iCalcreator 2.41.92//
CALSCALE:GREGORIAN
METHOD:PUBLISH
UID:30663730-3563-4936-b830-303838396533
X-WR-CALNAME:iCagenda
X-WR-CALDESC:Event Management Extension for Joomla!
X-WR-RELCALID:3E26604A-50F4-4449-8B3E-E4F4932D05B5
X-WR-TIMEZONE:UTC
BEGIN:VTIMEZONE
TZID:UTC
END:VTIMEZONE
BEGIN:VEVENT
UID:31333332-6566-4335-b736-666332306464
DTSTAMP:20260425T211517Z
CATEGORIES:Tagespflege 'Am Nordcenter'
CLASS:PUBLIC
DESCRIPTION:
DTSTART:20260504T100000Z
DTEND:20260504T110000Z
GEO:+53.068657;+14.296285
LOCATION:
ORGANIZER:
SEQUENCE:1
SUMMARY:Lesezeit
TRANSP:OPAQUE
URL:https://awo-schwedt.de/index.php/veranstaltungen/lesezeit/2026-05-04-10
 -00
END:VEVENT
END:VCALENDAR
