BEGIN:VCALENDAR
VERSION:2.0
PRODID:-//AWO Schwedt//NONSGML kigkonsult.se iCalcreator 2.41.92//
CALSCALE:GREGORIAN
METHOD:PUBLISH
UID:39383138-6634-4032-b166-353966313432
X-WR-CALNAME:iCagenda
X-WR-CALDESC:Event Management Extension for Joomla!
X-WR-RELCALID:3E26604A-50F4-4449-8B3E-E4F4932D05B5
X-WR-TIMEZONE:UTC
BEGIN:VTIMEZONE
TZID:UTC
END:VTIMEZONE
BEGIN:VEVENT
UID:32306235-3233-4035-a636-653935386237
DTSTAMP:20260421T033500Z
CATEGORIES:Begegnungsstätte  |  Bertolt- Brecht- Platz
CLASS:PUBLIC
DESCRIPTION:
DTSTART:20230601T090000Z
DTEND:20230601T183000Z
GEO:+53.686363;+14.169886
LOCATION:
ORGANIZER:
SEQUENCE:1
SUMMARY:Busfahrt nach Vorpommern...
TRANSP:OPAQUE
URL:https://awo-schwedt.de/index.php/veranstaltungen/begegnungsstaette-bert
 olt-brecht-platz/busfahrt-nach-vorpommern-2/2023-06-01-09-00
END:VEVENT
END:VCALENDAR
