BEGIN:VCALENDAR
VERSION:2.0
PRODID:-//AWO Schwedt//NONSGML kigkonsult.se iCalcreator 2.41.92//
CALSCALE:GREGORIAN
METHOD:PUBLISH
UID:30323263-6632-4439-b434-373061306635
X-WR-CALNAME:iCagenda
X-WR-CALDESC:Event Management Extension for Joomla!
X-WR-RELCALID:3E26604A-50F4-4449-8B3E-E4F4932D05B5
X-WR-TIMEZONE:UTC
BEGIN:VTIMEZONE
TZID:UTC
END:VTIMEZONE
BEGIN:VEVENT
UID:66366432-3765-4161-b466-363934373138
DTSTAMP:20260421T180013Z
CATEGORIES:Begegnungsstätte  |  Auguststraße - Aktivtreff
CLASS:PUBLIC
DESCRIPTION:
DTSTART:20260420T130000Z
DTEND:20260422T150000Z
GEO:+53.057022;+14.283006
LOCATION:
ORGANIZER:
SEQUENCE:1
SUMMARY:Wir spielen das Spiel:
TRANSP:OPAQUE
URL:https://awo-schwedt.de/index.php/component/icagenda/wir-spielen-das-spi
 el?Itemid=122
END:VEVENT
END:VCALENDAR
