BEGIN:VCALENDAR
VERSION:2.0
PRODID:-//AWO Schwedt//NONSGML kigkonsult.se iCalcreator 2.41.92//
CALSCALE:GREGORIAN
METHOD:PUBLISH
UID:64313937-3062-4138-b539-393233343130
X-WR-CALNAME:iCagenda
X-WR-CALDESC:Event Management Extension for Joomla!
X-WR-RELCALID:3E26604A-50F4-4449-8B3E-E4F4932D05B5
X-WR-TIMEZONE:UTC
BEGIN:VTIMEZONE
TZID:UTC
END:VTIMEZONE
BEGIN:VEVENT
UID:38306539-3465-4763-a162-363261663439
DTSTAMP:20260423T205222Z
CATEGORIES:Begegnungsstätte  |  Bertolt- Brecht- Platz
CLASS:PUBLIC
DESCRIPTION:
DTSTART:20260423T083000Z
DTEND:20260423T183000Z
GEO:+52.923206;+12.811678
LOCATION:
ORGANIZER:
SEQUENCE:1
SUMMARY:Schiffskorso in der Fontanestadt Neuruppin
TRANSP:OPAQUE
URL:https://awo-schwedt.de/index.php/component/icagenda/schiffskorso-in-der
 -fontanestadt-neuruppin/2026-04-23-08-30?Itemid=122
END:VEVENT
END:VCALENDAR
