BEGIN:VCALENDAR
VERSION:2.0
PRODID:-//AWO Schwedt//NONSGML kigkonsult.se iCalcreator 2.41.92//
CALSCALE:GREGORIAN
METHOD:PUBLISH
UID:30303430-3836-4633-a633-326462623462
X-WR-CALNAME:iCagenda
X-WR-CALDESC:Event Management Extension for Joomla!
X-WR-RELCALID:3E26604A-50F4-4449-8B3E-E4F4932D05B5
X-WR-TIMEZONE:UTC
BEGIN:VTIMEZONE
TZID:UTC
END:VTIMEZONE
BEGIN:VEVENT
UID:33653939-3266-4037-b761-636631656465
DTSTAMP:20260422T175534Z
CATEGORIES:Begegnungsstätte  |  Bertolt- Brecht- Platz
CLASS:PUBLIC
DESCRIPTION:
DTSTART:20260422T140000Z
DTEND:20260422T160000Z
GEO:+53.067581;+14.256143
LOCATION:
ORGANIZER:
SEQUENCE:1
SUMMARY:Kurs: 'Handarbeiten'
TRANSP:OPAQUE
URL:https://awo-schwedt.de/index.php/component/icagenda/kurs-handarbeiten/2
 026-04-22-14-00?Itemid=122
END:VEVENT
END:VCALENDAR
