BEGIN:VCALENDAR
VERSION:2.0
PRODID:-//AWO Schwedt//NONSGML kigkonsult.se iCalcreator 2.41.92//
CALSCALE:GREGORIAN
METHOD:PUBLISH
UID:33313833-3762-4536-a463-346664393537
X-WR-CALNAME:iCagenda
X-WR-CALDESC:Event Management Extension for Joomla!
X-WR-RELCALID:3E26604A-50F4-4449-8B3E-E4F4932D05B5
X-WR-TIMEZONE:UTC
BEGIN:VTIMEZONE
TZID:UTC
END:VTIMEZONE
BEGIN:VEVENT
UID:63633538-3561-4861-a237-313561353137
DTSTAMP:20260421T174942Z
CATEGORIES:Begegnungsstätte  |  Auguststraße
CLASS:PUBLIC
DESCRIPTION:
DTSTART:20260421T130000Z
DTEND:20260421T160000Z
GEO:+53.057022;+14.283006
LOCATION:
ORGANIZER:
SEQUENCE:1
SUMMARY:Karten- und Brettspiele
TRANSP:OPAQUE
URL:https://awo-schwedt.de/index.php/component/icagenda/karten-und-brettspi
 ele-12/2026-04-21-13-00?Itemid=122
END:VEVENT
END:VCALENDAR
